BEGIN:VCALENDAR
VERSION:2.0
PRODID:icalendar-ruby
CALSCALE:GREGORIAN
METHOD:PUBLISH
BEGIN:VEVENT
DTSTAMP:20260425T141917Z
UID:55-909127@oursaviourap.org.au
DTSTART:20260923T040000Z
DTEND:20260923T050000Z
CLASS:PUBLIC
CREATED:20260425T231732
DESCRIPTION:
LAST-MODIFIED:20260425T231732
LOCATION:
SUMMARY:1.30pm Worship Service 
URL;VALUE=URI:https://www.oursaviourap.org.au/events/1-30pm-worship-service
 /2026-09-23
ATTACH;FILENAME=Pre service slides  (6).png;FMTTYPE=image/png:https://dq5pw
 pg1q8ru0.cloudfront.net/2024/02/02/03/48/59/ee279c56-77b5-495e-8810-2d7b1c
 fa8466/Pre%20service%20slides%20%20(6).png
END:VEVENT
END:VCALENDAR
